BEGIN:VCALENDAR
VERSION:2.0
PRODID:-//Nihon Taï Jitsu - ECPv6.15.20//NONSGML v1.0//EN
CALSCALE:GREGORIAN
METHOD:PUBLISH
X-ORIGINAL-URL:https://www.nihon-tai-jitsu.fr
X-WR-CALDESC:Évènements pour Nihon Taï Jitsu
REFRESH-INTERVAL;VALUE=DURATION:PT1H
X-Robots-Tag:noindex
X-PUBLISHED-TTL:PT1H
BEGIN:VTIMEZONE
TZID:Europe/Paris
BEGIN:DAYLIGHT
TZOFFSETFROM:+0100
TZOFFSETTO:+0200
TZNAME:CEST
DTSTART:20230326T010000
END:DAYLIGHT
BEGIN:STANDARD
TZOFFSETFROM:+0200
TZOFFSETTO:+0100
TZNAME:CET
DTSTART:20231029T010000
END:STANDARD
BEGIN:DAYLIGHT
TZOFFSETFROM:+0100
TZOFFSETTO:+0200
TZNAME:CEST
DTSTART:20240331T010000
END:DAYLIGHT
BEGIN:STANDARD
TZOFFSETFROM:+0200
TZOFFSETTO:+0100
TZNAME:CET
DTSTART:20241027T010000
END:STANDARD
BEGIN:DAYLIGHT
TZOFFSETFROM:+0100
TZOFFSETTO:+0200
TZNAME:CEST
DTSTART:20250330T010000
END:DAYLIGHT
BEGIN:STANDARD
TZOFFSETFROM:+0200
TZOFFSETTO:+0100
TZNAME:CET
DTSTART:20251026T010000
END:STANDARD
END:VTIMEZONE
BEGIN:VEVENT
DTSTART;VALUE=DATE:20240224
DTEND;VALUE=DATE:20240303
DTSTAMP:20260424T174033
CREATED:20230928T163800Z
LAST-MODIFIED:20230928T163800Z
UID:5299-1708732800-1709423999@www.nihon-tai-jitsu.fr
SUMMARY:Stage Nihon Tai Jitsu – Valloire
DESCRIPTION:Fiche d’inscription à télécharger
URL:https://www.nihon-tai-jitsu.fr/event/stage-nihon-tai-jitsu-valloire-3
LOCATION:Hôtel Le Tatami\, Les Granges\, Valloire\, 73450
CATEGORIES:Auvergne Rhône-Alpes,Stage Régional
ATTACH;FMTTYPE=image/png:https://www.nihon-tai-jitsu.fr/wp-content/uploads/2021/10/logo_ntj_ski.png
END:VEVENT
END:VCALENDAR