BEGIN:VCALENDAR
VERSION:2.0
PRODID:-//Nihon Taï Jitsu - ECPv6.15.20//NONSGML v1.0//EN
CALSCALE:GREGORIAN
METHOD:PUBLISH
X-ORIGINAL-URL:https://www.nihon-tai-jitsu.fr
X-WR-CALDESC:Évènements pour Nihon Taï Jitsu
REFRESH-INTERVAL;VALUE=DURATION:PT1H
X-Robots-Tag:noindex
X-PUBLISHED-TTL:PT1H
BEGIN:VTIMEZONE
TZID:Europe/Paris
BEGIN:DAYLIGHT
TZOFFSETFROM:+0100
TZOFFSETTO:+0200
TZNAME:CEST
DTSTART:20210328T010000
END:DAYLIGHT
BEGIN:STANDARD
TZOFFSETFROM:+0200
TZOFFSETTO:+0100
TZNAME:CET
DTSTART:20211031T010000
END:STANDARD
BEGIN:DAYLIGHT
TZOFFSETFROM:+0100
TZOFFSETTO:+0200
TZNAME:CEST
DTSTART:20220327T010000
END:DAYLIGHT
BEGIN:STANDARD
TZOFFSETFROM:+0200
TZOFFSETTO:+0100
TZNAME:CET
DTSTART:20221030T010000
END:STANDARD
BEGIN:DAYLIGHT
TZOFFSETFROM:+0100
TZOFFSETTO:+0200
TZNAME:CEST
DTSTART:20230326T010000
END:DAYLIGHT
BEGIN:STANDARD
TZOFFSETFROM:+0200
TZOFFSETTO:+0100
TZNAME:CET
DTSTART:20231029T010000
END:STANDARD
END:VTIMEZONE
BEGIN:VEVENT
DTSTART;TZID=Europe/Paris:20220402T133000
DTEND;TZID=Europe/Paris:20220403T120000
DTSTAMP:20260425T235536
CREATED:20220214T205527Z
LAST-MODIFIED:20230704T142213Z
UID:3295-1648906200-1648987200@www.nihon-tai-jitsu.fr
SUMMARY:Stage Régional - Auvergne Rhône-Alpes
DESCRIPTION:Sous la Direction Technique de Philippe AVRIL
URL:https://www.nihon-tai-jitsu.fr/event/stage-regional-auvergne-rhone-alpes
LOCATION:DOJO MÉTROPOLIS\, 24 rue François PEISSEL\, CALUIRE ET CUIRE\, 69300\, France
CATEGORIES:Auvergne Rhône-Alpes,Stage Régional
ATTACH;FMTTYPE=image/png:https://www.nihon-tai-jitsu.fr/wp-content/uploads/2021/09/cal-stage-regional.png
END:VEVENT
END:VCALENDAR